BEGIN:VCALENDAR
VERSION:2.0
PRODID:-//The Womens Coalition for Empowerment, Inc. - ECPv6.15.20//NONSGML v1.0//EN
CALSCALE:GREGORIAN
METHOD:PUBLISH
X-WR-CALNAME:The Womens Coalition for Empowerment, Inc.
X-ORIGINAL-URL:https://thewce.org
X-WR-CALDESC:Events for The Womens Coalition for Empowerment, Inc.
REFRESH-INTERVAL;VALUE=DURATION:PT1H
X-Robots-Tag:noindex
X-PUBLISHED-TTL:PT1H
BEGIN:VTIMEZONE
TZID:America/New_York
BEGIN:DAYLIGHT
TZOFFSETFROM:-0500
TZOFFSETTO:-0400
TZNAME:EDT
DTSTART:20240310T070000
END:DAYLIGHT
BEGIN:STANDARD
TZOFFSETFROM:-0400
TZOFFSETTO:-0500
TZNAME:EST
DTSTART:20241103T060000
END:STANDARD
BEGIN:DAYLIGHT
TZOFFSETFROM:-0500
TZOFFSETTO:-0400
TZNAME:EDT
DTSTART:20250309T070000
END:DAYLIGHT
BEGIN:STANDARD
TZOFFSETFROM:-0400
TZOFFSETTO:-0500
TZNAME:EST
DTSTART:20251102T060000
END:STANDARD
BEGIN:DAYLIGHT
TZOFFSETFROM:-0500
TZOFFSETTO:-0400
TZNAME:EDT
DTSTART:20260308T070000
END:DAYLIGHT
BEGIN:STANDARD
TZOFFSETFROM:-0400
TZOFFSETTO:-0500
TZNAME:EST
DTSTART:20261101T060000
END:STANDARD
BEGIN:DAYLIGHT
TZOFFSETFROM:-0500
TZOFFSETTO:-0400
TZNAME:EDT
DTSTART:20270314T070000
END:DAYLIGHT
BEGIN:STANDARD
TZOFFSETFROM:-0400
TZOFFSETTO:-0500
TZNAME:EST
DTSTART:20271107T060000
END:STANDARD
END:VTIMEZONE
BEGIN:VEVENT
DTSTART;TZID=America/New_York:20260501T180000
DTEND;TZID=America/New_York:20260501T210000
DTSTAMP:20260419T230230
CREATED:20260115T200345Z
LAST-MODIFIED:20260125T202659Z
UID:244529-1777658400-1777669200@thewce.org
SUMMARY:Sistah Soul Series 2026 - May 1
DESCRIPTION:Sistah Soul Series – Live Music\, Jam Sessions & First Friday Vibes\nJoin us every First Friday from May through October\, 6:00 PM–9:00 PM\, at Cherry Street Pier for the Sistah Soul Series\, a free\, all-ages live music experience celebrating soul\, jazz\, R&B\, improvisation\, and community connection on the Philadelphia waterfront. \nEach event features a curated flow of music and live performance: \n\n\n6:00–6:45 PM: DJ Set \n\n6:45–7:00 PM: Opening Live Band Performance\n7:00–7:45 PM: Featured Artists Improvising with the House Band\n7:45–8:30 PM: DJ Set\n\n8:30–9:00 PM: Open Jam Session (ends promptly at 9:00 PM) \n\n\nVocalists\, instrumentalists\, poets\, and creatives interested in performing must sign up by 8:00 PM. \nThis event is free and open to the public\, welcoming music lovers of all ages. Whether you’re coming to perform\, vibe\, or discover new talent\, Sistah Soul Series is your go-to First Friday destination for live music and creative energy.
URL:https://thewce.org/event/sistah-soul-series-2026-may-1/
LOCATION:Cherry Street Pier\, 121 N CHRISTOPHER COLUMBUS BLVD\, PHILADELPHIA\, PA\, 19106
END:VEVENT
BEGIN:VEVENT
DTSTART;TZID=America/New_York:20260501T120000
DTEND;TZID=America/New_York:20260501T150000
DTSTAMP:20260419T230230
CREATED:20260418T174632Z
LAST-MODIFIED:20260418T175109Z
UID:244637-1777636800-1777647600@thewce.org
SUMMARY:Save Philly Festivals Bus Tour 2026
DESCRIPTION:
URL:https://thewce.org/event/save-philly-festivals-bus-tour-2026/
LOCATION:Cherry Street Pier\, 121 N CHRISTOPHER COLUMBUS BLVD\, PHILADELPHIA\, PA\, 19106
END:VEVENT
BEGIN:VEVENT
DTSTART;TZID=America/New_York:20260430T180000
DTEND;TZID=America/New_York:20260430T210000
DTSTAMP:20260419T230230
CREATED:20260214T010110Z
LAST-MODIFIED:20260214T011756Z
UID:244599-1777572000-1777582800@thewce.org
SUMMARY:SPONSORSHIP & SWING:  A JAZZ SALON FOR CREATIVE SUSTAINABILITY
DESCRIPTION:
URL:https://thewce.org/event/sponsorship-jazz/
LOCATION:Treasures Cove\, 5549 Germantown Ave\, Philadelphia\, PA\, 19144
ORGANIZER;CN="The Women's Coalition for Empowerment%2C Inc.":MAILTO:Info@TheWCE.org
END:VEVENT
BEGIN:VEVENT
DTSTART;TZID=America/New_York:20260325T180000
DTEND;TZID=America/New_York:20260325T200000
DTSTAMP:20260419T230230
CREATED:20260314T230121Z
LAST-MODIFIED:20260314T230513Z
UID:244618-1774461600-1774468800@thewce.org
SUMMARY:Hidden Benefits for Creatives Workshop: How Artists\, LLC Owners & Sole Proprietors Access Health Insurance\, Funding & Financial Support - An Art Economic Empowerment Initiative 2026
DESCRIPTION:CLICK HERE TO REGISTER \nThe Hidden Benefits for Creatives Workshop is a free educational session designed for artists\, freelancers\, LLC owners\, and sole proprietors who want to better understand how to legally access health insurance options\, business funding opportunities\, social service supports\, and student loan relief programs while managing self-employment income. This workshop breaks down real resources that creatives and small business owners can use to strengthen their financial stability and long-term economic empowerment.
URL:https://thewce.org/event/hidden-benefits-for-creatives-workshop-how-artists-llc-owners-sole-proprietors-access-health-insurance-funding-financial-support-an-art-economic-empowerment-initiative-2026/
LOCATION:Archwell Health\, 6201 Germantown Ave\, Philadelphia\, PA\, 19144
ORGANIZER;CN="The Women's Coalition for Empowerment%2C Inc.":MAILTO:Info@TheWCE.org
END:VEVENT
BEGIN:VEVENT
DTSTART;TZID=America/New_York:20260120T180000
DTEND;TZID=America/New_York:20260120T210000
DTSTAMP:20260419T230230
CREATED:20260105T192917Z
LAST-MODIFIED:20260105T192955Z
UID:244520-1768932000-1768942800@thewce.org
SUMMARY:Tuesday Nights Live! Feat. Shekhinah B.
DESCRIPTION:Tuesday Nights Live activates participating hotels by offering Philadelphians and visitors alike with a welcoming space to enjoy live performances\, build meaningful connections and experience the vibrancy of our city’s nightlife. Meet us in the lobby for live music featuring Shekhinah B.
URL:https://thewce.org/event/244520/
LOCATION:Aloft Philadelphia Downtown\, 101 N. Broad Street\, Philadelphia\, PA\, 19107
END:VEVENT
BEGIN:VEVENT
DTSTART;TZID=America/New_York:20251231T220000
DTEND;TZID=America/New_York:20260101T010000
DTSTAMP:20260419T230230
CREATED:20251118T215546Z
LAST-MODIFIED:20251119T163437Z
UID:244487-1767218400-1767229200@thewce.org
SUMMARY:(TICKETED EVENT) New Year’s on the Pier with Fireworks (21+) feat. Shekhinah B.
DESCRIPTION:
URL:https://thewce.org/event/ticketed-event-new-years-on-the-pier-with-fireworks-21-feat-shekhinah-b/
LOCATION:Cherry Street Pier\, 121 N CHRISTOPHER COLUMBUS BLVD\, PHILADELPHIA\, PA\, 19106
END:VEVENT
BEGIN:VEVENT
DTSTART;TZID=America/New_York:20251229T170000
DTEND;TZID=America/New_York:20251229T200000
DTSTAMP:20260419T230230
CREATED:20251202T161325Z
LAST-MODIFIED:20251221T003546Z
UID:244501-1767027600-1767038400@thewce.org
SUMMARY:Ujamaa – Cooperative Economics Evening Bazaar & Quizzo 2025
DESCRIPTION:In celebration of the fourth day of Kwanzaa\, the African American Museum in Philadelphia (AAMP) will present Ujamaa – Cooperative Economics Evening Bazaar & Quizzo on Monday\, December 29\, 2025\, from 5:00 PM to 8:00 PM at Franklin Square. This festive\, family-friendly event highlights the principle of Ujamaa—building and maintaining our own businesses and profiting from them together—by showcasing Black-owned vendors\, offering lively cultural activities\, and bringing the community together in celebration of cooperative economics.
URL:https://thewce.org/event/ujamaa-cooperative-economics-evening-bazaar-quizzo-2025/
LOCATION:Franklin Square Park\, 200 N. 6th St.\, Philadelphia\, PA\, 19106\, United States
END:VEVENT
BEGIN:VEVENT
DTSTART;TZID=America/New_York:20251226T170000
DTEND;TZID=America/New_York:20251226T200000
DTSTAMP:20260419T230230
CREATED:20251202T155038Z
LAST-MODIFIED:20251218T193627Z
UID:244495-1766768400-1766779200@thewce.org
SUMMARY:Kwanzaa | Umoja – Unity Ceremony 2025 @ AAMP feat. Shekhinah B.
DESCRIPTION:In celebration of the first day of Kwanzaa\, the African American Museum in Philadelphia (AAMP) will host its annual Umoja – Unity Ceremony on Thursday\, December 26\, 2025\, from 5:00 PM to 8:00 PM. This family-friendly event will feature drumming\, live performances\, community conversations\, and cultural activities that reflect the spirit of Umoja\, the foundational principle of the Nguzo Saba. Guests will enjoy food\, music\, and opportunities to engage in traditions that promote togetherness\, reflection\, and cultural pride.
URL:https://thewce.org/event/kwanzaa-umoja-unity-ceremony-2025-aamp-feat-shekhinah-b/
LOCATION:African American Museum in Philadelphia\, 701 Arch Street\, PHILADELPHIA\, PA\, 19106\, United States
END:VEVENT
BEGIN:VEVENT
DTSTART;TZID=America/New_York:20251205T180000
DTEND;TZID=America/New_York:20251205T210000
DTSTAMP:20260419T230230
CREATED:20251118T220559Z
LAST-MODIFIED:20251119T163600Z
UID:244490-1764957600-1764968400@thewce.org
SUMMARY:Holiday Tree Lighting Powered by PECO (feat. Shekhinah B.)
DESCRIPTION:Shekhinah
URL:https://thewce.org/event/holiday-tree-lighting-powered-by-peco-feat-shekhinah-b/
LOCATION:Blue Cross RiverRink\, 101 S. Columbus Blvd\, Philadelphia\, PA\, 19106
END:VEVENT
BEGIN:VEVENT
DTSTART;TZID=America/New_York:20251125T180000
DTEND;TZID=America/New_York:20251125T210000
DTSTAMP:20260419T230230
CREATED:20251114T202728Z
LAST-MODIFIED:20251119T163824Z
UID:244479-1764093600-1764104400@thewce.org
SUMMARY:Tuesday Nights Live! Feat. Shekhinah B.
DESCRIPTION:
URL:https://thewce.org/event/tuesday-nights-live-feat-shekhinah-b/
LOCATION:Aloft Philadelphia Downtown\, 101 N. Broad Street\, Philadelphia\, PA\, 19107
END:VEVENT
END:VCALENDAR