BEGIN:VCALENDAR
VERSION:2.0
PRODID:-//The Womens Coalition for Empowerment, Inc. - ECPv6.15.20//NONSGML v1.0//EN
CALSCALE:GREGORIAN
METHOD:PUBLISH
X-WR-CALNAME:The Womens Coalition for Empowerment, Inc.
X-ORIGINAL-URL:https://thewce.org
X-WR-CALDESC:Events for The Womens Coalition for Empowerment, Inc.
REFRESH-INTERVAL;VALUE=DURATION:PT1H
X-Robots-Tag:noindex
X-PUBLISHED-TTL:PT1H
BEGIN:VTIMEZONE
TZID:America/New_York
BEGIN:DAYLIGHT
TZOFFSETFROM:-0500
TZOFFSETTO:-0400
TZNAME:EDT
DTSTART:20250309T070000
END:DAYLIGHT
BEGIN:STANDARD
TZOFFSETFROM:-0400
TZOFFSETTO:-0500
TZNAME:EST
DTSTART:20251102T060000
END:STANDARD
BEGIN:DAYLIGHT
TZOFFSETFROM:-0500
TZOFFSETTO:-0400
TZNAME:EDT
DTSTART:20260308T070000
END:DAYLIGHT
BEGIN:STANDARD
TZOFFSETFROM:-0400
TZOFFSETTO:-0500
TZNAME:EST
DTSTART:20261101T060000
END:STANDARD
BEGIN:DAYLIGHT
TZOFFSETFROM:-0500
TZOFFSETTO:-0400
TZNAME:EDT
DTSTART:20270314T070000
END:DAYLIGHT
BEGIN:STANDARD
TZOFFSETFROM:-0400
TZOFFSETTO:-0500
TZNAME:EST
DTSTART:20271107T060000
END:STANDARD
END:VTIMEZONE
BEGIN:VEVENT
DTSTART;TZID=America/New_York:20260602T180000
DTEND;TZID=America/New_York:20260602T210000
DTSTAMP:20260419T093459
CREATED:20260418T175231Z
LAST-MODIFIED:20260418T175231Z
UID:244644-1780423200-1780434000@thewce.org
SUMMARY:DRWC The Promenade 2026
DESCRIPTION:
URL:https://thewce.org/event/drwc-the-promenade-2026/
LOCATION:Cherry Street Pier\, 121 N CHRISTOPHER COLUMBUS BLVD\, PHILADELPHIA\, PA\, 19106
END:VEVENT
BEGIN:VEVENT
DTSTART;TZID=America/New_York:20260605T180000
DTEND;TZID=America/New_York:20260605T210000
DTSTAMP:20260419T093459
CREATED:20260115T203257Z
LAST-MODIFIED:20260125T202610Z
UID:244540-1780682400-1780693200@thewce.org
SUMMARY:Sistah Soul Series 2026 - June 5
DESCRIPTION:Sistah Soul Series – Live Music\, Jam Sessions & First Friday Vibes\nJoin us every First Friday from May through October\, 6:00 PM–9:00 PM\, at Cherry Street Pier for the Sistah Soul Series\, a free\, all-ages live music experience celebrating soul\, jazz\, R&B\, improvisation\, and community connection on the Philadelphia waterfront. \nEach event features a curated flow of music and live performance: \n\n\n6:00–6:45 PM: DJ Set \n\n6:45–7:00 PM: Opening Live Band Performance\n7:00–7:45 PM: Featured Artists Improvising with the House Band\n7:45–8:30 PM: DJ Set\n\n8:30–9:00 PM: Open Jam Session (ends promptly at 9:00 PM) \n\n\nVocalists\, instrumentalists\, poets\, and creatives interested in performing must sign up by 8:00 PM. \nThis event is free and open to the public\, welcoming music lovers of all ages. Whether you’re coming to perform\, vibe\, or discover new talent\, Sistah Soul Series is your go-to First Friday destination for live music and creative energy.
URL:https://thewce.org/event/sistah-soul-series-2026-june-5/
LOCATION:Cherry Street Pier\, 121 N CHRISTOPHER COLUMBUS BLVD\, PHILADELPHIA\, PA\, 19106
END:VEVENT
BEGIN:VEVENT
DTSTART;TZID=America/New_York:20260605T190000
DTEND;TZID=America/New_York:20260605T220000
DTSTAMP:20260419T093459
CREATED:20260213T225330Z
LAST-MODIFIED:20260213T235947Z
UID:244570-1780686000-1780696800@thewce.org
SUMMARY:ROLL CALL | Friday\, June 5\, 2026
DESCRIPTION:ROLL CALL Fridays @ Blue Cross RiverRink \nClock out and roll into the weekend. Roll Call Fridays is a free weekly roller skating and dance party at Blue Cross RiverRink. \nEnjoy live DJs\, pop-up performances\, dancing\, and high-energy vibes every Friday during Summerfest. \nWhether you’re skating or dancing rinkside\, this is where music\, movement\, and community meet. \nFree admission. Good energy required.
URL:https://thewce.org/event/roll-call-friday-june-5-2026/
LOCATION:Blue Cross RiverRink\, 101 S. Columbus Blvd\, Philadelphia\, PA\, 19106
END:VEVENT
BEGIN:VEVENT
DTSTART;TZID=America/New_York:20260612T190000
DTEND;TZID=America/New_York:20260612T220000
DTSTAMP:20260419T093459
CREATED:20260213T225942Z
LAST-MODIFIED:20260213T235937Z
UID:244572-1781290800-1781301600@thewce.org
SUMMARY:ROLL CALL | Friday\, June 12\, 2026
DESCRIPTION:ROLL CALL Fridays @ Blue Cross RiverRink \nClock out and roll into the weekend. Roll Call Fridays is a free weekly roller skating and dance party at Blue Cross RiverRink. \nEnjoy live DJs\, pop-up performances\, dancing\, and high-energy vibes every Friday during Summerfest. \nWhether you’re skating or dancing rinkside\, this is where music\, movement\, and community meet. \nFree admission. Good energy required.
URL:https://thewce.org/event/roll-call-friday-june-12-2026/
LOCATION:Blue Cross RiverRink\, 101 S. Columbus Blvd\, Philadelphia\, PA\, 19106
END:VEVENT
BEGIN:VEVENT
DTSTART;TZID=America/New_York:20260619T190000
DTEND;TZID=America/New_York:20260619T220000
DTSTAMP:20260419T093459
CREATED:20260213T230341Z
LAST-MODIFIED:20260213T235927Z
UID:244574-1781895600-1781906400@thewce.org
SUMMARY:ROLL CALL | Friday\, June 19\, 2026
DESCRIPTION:ROLL CALL Fridays @ Blue Cross RiverRink \nClock out and roll into the weekend. Roll Call Fridays is a free weekly roller skating and dance party at Blue Cross RiverRink. \nEnjoy live DJs\, pop-up performances\, dancing\, and high-energy vibes every Friday during Summerfest. \nWhether you’re skating or dancing rinkside\, this is where music\, movement\, and community meet. \nFree admission. Good energy required. \n 
URL:https://thewce.org/event/roll-call-friday-june-19-2026/
LOCATION:Blue Cross RiverRink\, 101 S. Columbus Blvd\, Philadelphia\, PA\, 19106
END:VEVENT
BEGIN:VEVENT
DTSTART;TZID=America/New_York:20260620T130000
DTEND;TZID=America/New_York:20260620T180000
DTSTAMP:20260419T093459
CREATED:20251116T024345Z
LAST-MODIFIED:20260104T193918Z
UID:244484-1781960400-1781978400@thewce.org
SUMMARY:Juneteenth Wellness & Arts Festival 2026
DESCRIPTION:Join Us For Philly’s First Event Wine-Less Festival In Celebration of Juneteenth!
URL:https://thewce.org/event/pa250-juneteenth-wellness-arts-festival-2026/
LOCATION:Cherry Street Pier\, 121 N CHRISTOPHER COLUMBUS BLVD\, PHILADELPHIA\, PA\, 19106
ORGANIZER;CN="The Women's Coalition for Empowerment%2C Inc.":MAILTO:Info@TheWCE.org
END:VEVENT
BEGIN:VEVENT
DTSTART;TZID=America/New_York:20260626T190000
DTEND;TZID=America/New_York:20260626T220000
DTSTAMP:20260419T093459
CREATED:20260213T230725Z
LAST-MODIFIED:20260213T235913Z
UID:244576-1782500400-1782511200@thewce.org
SUMMARY:ROLL CALL | Friday\, June 26\, 2026
DESCRIPTION:ROLL CALL Fridays @ Blue Cross RiverRink \nClock out and roll into the weekend. Roll Call Fridays is a free weekly roller skating and dance party at Blue Cross RiverRink. \nEnjoy live DJs\, pop-up performances\, dancing\, and high-energy vibes every Friday during Summerfest. \nWhether you’re skating or dancing rinkside\, this is where music\, movement\, and community meet. \nFree admission. Good energy required.
URL:https://thewce.org/event/roll-call-friday-june-26-2026/
LOCATION:Blue Cross RiverRink\, 101 S. Columbus Blvd\, Philadelphia\, PA\, 19106
END:VEVENT
END:VCALENDAR